BEGIN:VCALENDAR
VERSION:2.0
PRODID:-//Cloud Native Now - ECPv5.16.4//NONSGML v1.0//EN
CALSCALE:GREGORIAN
METHOD:PUBLISH
X-WR-CALNAME:Cloud Native Now
X-ORIGINAL-URL:https://cloudnativenow.com
X-WR-CALDESC:Events for Cloud Native Now
BEGIN:VTIMEZONE
TZID:America/New_York
BEGIN:DAYLIGHT
TZOFFSETFROM:-0500
TZOFFSETTO:-0400
TZNAME:EDT
DTSTART:20230312T070000
END:DAYLIGHT
BEGIN:STANDARD
TZOFFSETFROM:-0400
TZOFFSETTO:-0500
TZNAME:EST
DTSTART:20231105T060000
END:STANDARD
END:VTIMEZONE
BEGIN:VEVENT
DTSTART;TZID=America/New_York:20230321T130000
DTEND;TZID=America/New_York:20230321T140000
DTSTAMP:20260424T070122
CREATED:20230217T050714Z
LAST-MODIFIED:20230321T210716Z
UID:154978-1679403600-1679407200@cloudnativenow.com
SUMMARY:How Atlassian Scaled A Developer Security Solution Across Thousands Of Engineers
DESCRIPTION:
URL:https://cloudnativenow.com/webinar/how-atlassian-scaled-a-developer-security-solution-across-thousands-of-engineers/
LOCATION:Webinar\, Boca Raton\, FL\, 33487\, United States
ATTACH;FMTTYPE=image/png:https://cloudnativenow.com/wp-content/uploads/2023/02/OnDemand-2023.03.21-AWS-Snyk-CJ_Landing-_Page_1540-×-660.png
END:VEVENT
END:VCALENDAR